BEGIN:VCALENDAR
VERSION:2.0
PRODID:-//Chamber San Mateo County - ECPv6.15.20//NONSGML v1.0//EN
CALSCALE:GREGORIAN
METHOD:PUBLISH
X-ORIGINAL-URL:https://www.chambersmc.org
X-WR-CALDESC:Events for Chamber San Mateo County
REFRESH-INTERVAL;VALUE=DURATION:PT1H
X-Robots-Tag:noindex
X-PUBLISHED-TTL:PT1H
BEGIN:VTIMEZONE
TZID:America/Los_Angeles
BEGIN:DAYLIGHT
TZOFFSETFROM:-0800
TZOFFSETTO:-0700
TZNAME:PDT
DTSTART:20260308T100000
END:DAYLIGHT
BEGIN:STANDARD
TZOFFSETFROM:-0700
TZOFFSETTO:-0800
TZNAME:PST
DTSTART:20261101T090000
END:STANDARD
BEGIN:DAYLIGHT
TZOFFSETFROM:-0800
TZOFFSETTO:-0700
TZNAME:PDT
DTSTART:20270314T100000
END:DAYLIGHT
BEGIN:STANDARD
TZOFFSETFROM:-0700
TZOFFSETTO:-0800
TZNAME:PST
DTSTART:20271107T090000
END:STANDARD
BEGIN:DAYLIGHT
TZOFFSETFROM:-0800
TZOFFSETTO:-0700
TZNAME:PDT
DTSTART:20280312T100000
END:DAYLIGHT
BEGIN:STANDARD
TZOFFSETFROM:-0700
TZOFFSETTO:-0800
TZNAME:PST
DTSTART:20281105T090000
END:STANDARD
BEGIN:DAYLIGHT
TZOFFSETFROM:-0800
TZOFFSETTO:-0700
TZNAME:PDT
DTSTART:20290311T100000
END:DAYLIGHT
BEGIN:STANDARD
TZOFFSETFROM:-0700
TZOFFSETTO:-0800
TZNAME:PST
DTSTART:20291104T090000
END:STANDARD
END:VTIMEZONE
BEGIN:VEVENT
DTSTART;TZID=America/Los_Angeles:20270620T090000
DTEND;TZID=America/Los_Angeles:20270620T130000
DTSTAMP:20260422T150444
CREATED:20251027T234534Z
LAST-MODIFIED:20251027T234534Z
UID:21295-1813482000-1813496400@www.chambersmc.org
SUMMARY:San Carlos Farmer's Markets
DESCRIPTION:Every Sunday\, 9:00 am – 1:00 pm\, Downtown Laurel Street – Between Cherry and San Carlos Avenue
URL:https://www.chambersmc.org/event/san-carlos-farmers-markets-6/2027-06-20/
LOCATION:Downtown Laurel Street – Between Cherry and San Carlos Avenue\, Laurel Street\, San Carlos\, CA\, 94070\, United States
CATEGORIES:San Carlos Events
END:VEVENT
BEGIN:VEVENT
DTSTART;TZID=America/Los_Angeles:20270627T090000
DTEND;TZID=America/Los_Angeles:20270627T130000
DTSTAMP:20260422T150444
CREATED:20251027T234534Z
LAST-MODIFIED:20251027T234534Z
UID:21296-1814086800-1814101200@www.chambersmc.org
SUMMARY:San Carlos Farmer's Markets
DESCRIPTION:Every Sunday\, 9:00 am – 1:00 pm\, Downtown Laurel Street – Between Cherry and San Carlos Avenue
URL:https://www.chambersmc.org/event/san-carlos-farmers-markets-6/2027-06-27/
LOCATION:Downtown Laurel Street – Between Cherry and San Carlos Avenue\, Laurel Street\, San Carlos\, CA\, 94070\, United States
CATEGORIES:San Carlos Events
END:VEVENT
BEGIN:VEVENT
DTSTART;TZID=America/Los_Angeles:20270704T090000
DTEND;TZID=America/Los_Angeles:20270704T130000
DTSTAMP:20260422T150444
CREATED:20251027T234534Z
LAST-MODIFIED:20251027T234534Z
UID:21297-1814691600-1814706000@www.chambersmc.org
SUMMARY:San Carlos Farmer's Markets
DESCRIPTION:Every Sunday\, 9:00 am – 1:00 pm\, Downtown Laurel Street – Between Cherry and San Carlos Avenue
URL:https://www.chambersmc.org/event/san-carlos-farmers-markets-6/2027-07-04/
LOCATION:Downtown Laurel Street – Between Cherry and San Carlos Avenue\, Laurel Street\, San Carlos\, CA\, 94070\, United States
CATEGORIES:San Carlos Events
END:VEVENT
BEGIN:VEVENT
DTSTART;TZID=America/Los_Angeles:20270711T090000
DTEND;TZID=America/Los_Angeles:20270711T130000
DTSTAMP:20260422T150444
CREATED:20251027T234534Z
LAST-MODIFIED:20251027T234534Z
UID:21298-1815296400-1815310800@www.chambersmc.org
SUMMARY:San Carlos Farmer's Markets
DESCRIPTION:Every Sunday\, 9:00 am – 1:00 pm\, Downtown Laurel Street – Between Cherry and San Carlos Avenue
URL:https://www.chambersmc.org/event/san-carlos-farmers-markets-6/2027-07-11/
LOCATION:Downtown Laurel Street – Between Cherry and San Carlos Avenue\, Laurel Street\, San Carlos\, CA\, 94070\, United States
CATEGORIES:San Carlos Events
END:VEVENT
BEGIN:VEVENT
DTSTART;TZID=America/Los_Angeles:20270718T090000
DTEND;TZID=America/Los_Angeles:20270718T130000
DTSTAMP:20260422T150444
CREATED:20251027T234534Z
LAST-MODIFIED:20251027T234534Z
UID:21299-1815901200-1815915600@www.chambersmc.org
SUMMARY:San Carlos Farmer's Markets
DESCRIPTION:Every Sunday\, 9:00 am – 1:00 pm\, Downtown Laurel Street – Between Cherry and San Carlos Avenue
URL:https://www.chambersmc.org/event/san-carlos-farmers-markets-6/2027-07-18/
LOCATION:Downtown Laurel Street – Between Cherry and San Carlos Avenue\, Laurel Street\, San Carlos\, CA\, 94070\, United States
CATEGORIES:San Carlos Events
END:VEVENT
BEGIN:VEVENT
DTSTART;TZID=America/Los_Angeles:20270725T090000
DTEND;TZID=America/Los_Angeles:20270725T130000
DTSTAMP:20260422T150444
CREATED:20251027T234534Z
LAST-MODIFIED:20251027T234534Z
UID:21300-1816506000-1816520400@www.chambersmc.org
SUMMARY:San Carlos Farmer's Markets
DESCRIPTION:Every Sunday\, 9:00 am – 1:00 pm\, Downtown Laurel Street – Between Cherry and San Carlos Avenue
URL:https://www.chambersmc.org/event/san-carlos-farmers-markets-6/2027-07-25/
LOCATION:Downtown Laurel Street – Between Cherry and San Carlos Avenue\, Laurel Street\, San Carlos\, CA\, 94070\, United States
CATEGORIES:San Carlos Events
END:VEVENT
BEGIN:VEVENT
DTSTART;TZID=America/Los_Angeles:20270801T090000
DTEND;TZID=America/Los_Angeles:20270801T130000
DTSTAMP:20260422T150444
CREATED:20251027T234534Z
LAST-MODIFIED:20251027T234534Z
UID:21301-1817110800-1817125200@www.chambersmc.org
SUMMARY:San Carlos Farmer's Markets
DESCRIPTION:Every Sunday\, 9:00 am – 1:00 pm\, Downtown Laurel Street – Between Cherry and San Carlos Avenue
URL:https://www.chambersmc.org/event/san-carlos-farmers-markets-6/2027-08-01/
LOCATION:Downtown Laurel Street – Between Cherry and San Carlos Avenue\, Laurel Street\, San Carlos\, CA\, 94070\, United States
CATEGORIES:San Carlos Events
END:VEVENT
BEGIN:VEVENT
DTSTART;TZID=America/Los_Angeles:20270808T090000
DTEND;TZID=America/Los_Angeles:20270808T130000
DTSTAMP:20260422T150444
CREATED:20251027T234534Z
LAST-MODIFIED:20251027T234534Z
UID:21302-1817715600-1817730000@www.chambersmc.org
SUMMARY:San Carlos Farmer's Markets
DESCRIPTION:Every Sunday\, 9:00 am – 1:00 pm\, Downtown Laurel Street – Between Cherry and San Carlos Avenue
URL:https://www.chambersmc.org/event/san-carlos-farmers-markets-6/2027-08-08/
LOCATION:Downtown Laurel Street – Between Cherry and San Carlos Avenue\, Laurel Street\, San Carlos\, CA\, 94070\, United States
CATEGORIES:San Carlos Events
END:VEVENT
BEGIN:VEVENT
DTSTART;TZID=America/Los_Angeles:20270815T090000
DTEND;TZID=America/Los_Angeles:20270815T130000
DTSTAMP:20260422T150444
CREATED:20251027T234534Z
LAST-MODIFIED:20251027T234534Z
UID:21303-1818320400-1818334800@www.chambersmc.org
SUMMARY:San Carlos Farmer's Markets
DESCRIPTION:Every Sunday\, 9:00 am – 1:00 pm\, Downtown Laurel Street – Between Cherry and San Carlos Avenue
URL:https://www.chambersmc.org/event/san-carlos-farmers-markets-6/2027-08-15/
LOCATION:Downtown Laurel Street – Between Cherry and San Carlos Avenue\, Laurel Street\, San Carlos\, CA\, 94070\, United States
CATEGORIES:San Carlos Events
END:VEVENT
BEGIN:VEVENT
DTSTART;TZID=America/Los_Angeles:20270822T090000
DTEND;TZID=America/Los_Angeles:20270822T130000
DTSTAMP:20260422T150444
CREATED:20251027T234534Z
LAST-MODIFIED:20251027T234534Z
UID:21304-1818925200-1818939600@www.chambersmc.org
SUMMARY:San Carlos Farmer's Markets
DESCRIPTION:Every Sunday\, 9:00 am – 1:00 pm\, Downtown Laurel Street – Between Cherry and San Carlos Avenue
URL:https://www.chambersmc.org/event/san-carlos-farmers-markets-6/2027-08-22/
LOCATION:Downtown Laurel Street – Between Cherry and San Carlos Avenue\, Laurel Street\, San Carlos\, CA\, 94070\, United States
CATEGORIES:San Carlos Events
END:VEVENT
BEGIN:VEVENT
DTSTART;TZID=America/Los_Angeles:20270829T090000
DTEND;TZID=America/Los_Angeles:20270829T130000
DTSTAMP:20260422T150444
CREATED:20251027T234534Z
LAST-MODIFIED:20251027T234534Z
UID:21305-1819530000-1819544400@www.chambersmc.org
SUMMARY:San Carlos Farmer's Markets
DESCRIPTION:Every Sunday\, 9:00 am – 1:00 pm\, Downtown Laurel Street – Between Cherry and San Carlos Avenue
URL:https://www.chambersmc.org/event/san-carlos-farmers-markets-6/2027-08-29/
LOCATION:Downtown Laurel Street – Between Cherry and San Carlos Avenue\, Laurel Street\, San Carlos\, CA\, 94070\, United States
CATEGORIES:San Carlos Events
END:VEVENT
BEGIN:VEVENT
DTSTART;TZID=America/Los_Angeles:20270905T090000
DTEND;TZID=America/Los_Angeles:20270905T130000
DTSTAMP:20260422T150444
CREATED:20251027T234534Z
LAST-MODIFIED:20251027T234534Z
UID:21306-1820134800-1820149200@www.chambersmc.org
SUMMARY:San Carlos Farmer's Markets
DESCRIPTION:Every Sunday\, 9:00 am – 1:00 pm\, Downtown Laurel Street – Between Cherry and San Carlos Avenue
URL:https://www.chambersmc.org/event/san-carlos-farmers-markets-6/2027-09-05/
LOCATION:Downtown Laurel Street – Between Cherry and San Carlos Avenue\, Laurel Street\, San Carlos\, CA\, 94070\, United States
CATEGORIES:San Carlos Events
END:VEVENT
BEGIN:VEVENT
DTSTART;TZID=America/Los_Angeles:20270912T090000
DTEND;TZID=America/Los_Angeles:20270912T130000
DTSTAMP:20260422T150444
CREATED:20251027T234534Z
LAST-MODIFIED:20251027T234534Z
UID:21307-1820739600-1820754000@www.chambersmc.org
SUMMARY:San Carlos Farmer's Markets
DESCRIPTION:Every Sunday\, 9:00 am – 1:00 pm\, Downtown Laurel Street – Between Cherry and San Carlos Avenue
URL:https://www.chambersmc.org/event/san-carlos-farmers-markets-6/2027-09-12/
LOCATION:Downtown Laurel Street – Between Cherry and San Carlos Avenue\, Laurel Street\, San Carlos\, CA\, 94070\, United States
CATEGORIES:San Carlos Events
END:VEVENT
BEGIN:VEVENT
DTSTART;TZID=America/Los_Angeles:20270919T090000
DTEND;TZID=America/Los_Angeles:20270919T130000
DTSTAMP:20260422T150444
CREATED:20251027T234534Z
LAST-MODIFIED:20251027T234534Z
UID:21308-1821344400-1821358800@www.chambersmc.org
SUMMARY:San Carlos Farmer's Markets
DESCRIPTION:Every Sunday\, 9:00 am – 1:00 pm\, Downtown Laurel Street – Between Cherry and San Carlos Avenue
URL:https://www.chambersmc.org/event/san-carlos-farmers-markets-6/2027-09-19/
LOCATION:Downtown Laurel Street – Between Cherry and San Carlos Avenue\, Laurel Street\, San Carlos\, CA\, 94070\, United States
CATEGORIES:San Carlos Events
END:VEVENT
BEGIN:VEVENT
DTSTART;TZID=America/Los_Angeles:20270926T090000
DTEND;TZID=America/Los_Angeles:20270926T130000
DTSTAMP:20260422T150444
CREATED:20251027T234534Z
LAST-MODIFIED:20251027T234534Z
UID:21309-1821949200-1821963600@www.chambersmc.org
SUMMARY:San Carlos Farmer's Markets
DESCRIPTION:Every Sunday\, 9:00 am – 1:00 pm\, Downtown Laurel Street – Between Cherry and San Carlos Avenue
URL:https://www.chambersmc.org/event/san-carlos-farmers-markets-6/2027-09-26/
LOCATION:Downtown Laurel Street – Between Cherry and San Carlos Avenue\, Laurel Street\, San Carlos\, CA\, 94070\, United States
CATEGORIES:San Carlos Events
END:VEVENT
BEGIN:VEVENT
DTSTART;TZID=America/Los_Angeles:20271003T090000
DTEND;TZID=America/Los_Angeles:20271003T130000
DTSTAMP:20260422T150444
CREATED:20251027T234534Z
LAST-MODIFIED:20251027T234534Z
UID:21310-1822554000-1822568400@www.chambersmc.org
SUMMARY:San Carlos Farmer's Markets
DESCRIPTION:Every Sunday\, 9:00 am – 1:00 pm\, Downtown Laurel Street – Between Cherry and San Carlos Avenue
URL:https://www.chambersmc.org/event/san-carlos-farmers-markets-6/2027-10-03/
LOCATION:Downtown Laurel Street – Between Cherry and San Carlos Avenue\, Laurel Street\, San Carlos\, CA\, 94070\, United States
CATEGORIES:San Carlos Events
END:VEVENT
BEGIN:VEVENT
DTSTART;TZID=America/Los_Angeles:20271010T090000
DTEND;TZID=America/Los_Angeles:20271010T130000
DTSTAMP:20260422T150444
CREATED:20251027T234534Z
LAST-MODIFIED:20251027T234534Z
UID:21311-1823158800-1823173200@www.chambersmc.org
SUMMARY:San Carlos Farmer's Markets
DESCRIPTION:Every Sunday\, 9:00 am – 1:00 pm\, Downtown Laurel Street – Between Cherry and San Carlos Avenue
URL:https://www.chambersmc.org/event/san-carlos-farmers-markets-6/2027-10-10/
LOCATION:Downtown Laurel Street – Between Cherry and San Carlos Avenue\, Laurel Street\, San Carlos\, CA\, 94070\, United States
CATEGORIES:San Carlos Events
END:VEVENT
BEGIN:VEVENT
DTSTART;TZID=America/Los_Angeles:20271017T090000
DTEND;TZID=America/Los_Angeles:20271017T130000
DTSTAMP:20260422T150444
CREATED:20251027T234534Z
LAST-MODIFIED:20251027T234534Z
UID:21312-1823763600-1823778000@www.chambersmc.org
SUMMARY:San Carlos Farmer's Markets
DESCRIPTION:Every Sunday\, 9:00 am – 1:00 pm\, Downtown Laurel Street – Between Cherry and San Carlos Avenue
URL:https://www.chambersmc.org/event/san-carlos-farmers-markets-6/2027-10-17/
LOCATION:Downtown Laurel Street – Between Cherry and San Carlos Avenue\, Laurel Street\, San Carlos\, CA\, 94070\, United States
CATEGORIES:San Carlos Events
END:VEVENT
BEGIN:VEVENT
DTSTART;TZID=America/Los_Angeles:20271024T090000
DTEND;TZID=America/Los_Angeles:20271024T130000
DTSTAMP:20260422T150444
CREATED:20251027T234534Z
LAST-MODIFIED:20251027T234534Z
UID:21313-1824368400-1824382800@www.chambersmc.org
SUMMARY:San Carlos Farmer's Markets
DESCRIPTION:Every Sunday\, 9:00 am – 1:00 pm\, Downtown Laurel Street – Between Cherry and San Carlos Avenue
URL:https://www.chambersmc.org/event/san-carlos-farmers-markets-6/2027-10-24/
LOCATION:Downtown Laurel Street – Between Cherry and San Carlos Avenue\, Laurel Street\, San Carlos\, CA\, 94070\, United States
CATEGORIES:San Carlos Events
END:VEVENT
BEGIN:VEVENT
DTSTART;TZID=America/Los_Angeles:20271031T090000
DTEND;TZID=America/Los_Angeles:20271031T130000
DTSTAMP:20260422T150444
CREATED:20251027T234534Z
LAST-MODIFIED:20251027T234534Z
UID:21614-1824973200-1824987600@www.chambersmc.org
SUMMARY:San Carlos Farmer's Markets
DESCRIPTION:Every Sunday\, 9:00 am – 1:00 pm\, Downtown Laurel Street – Between Cherry and San Carlos Avenue
URL:https://www.chambersmc.org/event/san-carlos-farmers-markets-6/2027-10-31/
LOCATION:Downtown Laurel Street – Between Cherry and San Carlos Avenue\, Laurel Street\, San Carlos\, CA\, 94070\, United States
CATEGORIES:San Carlos Events
END:VEVENT
BEGIN:VEVENT
DTSTART;TZID=America/Los_Angeles:20271107T090000
DTEND;TZID=America/Los_Angeles:20271107T130000
DTSTAMP:20260422T150444
CREATED:20251027T234534Z
LAST-MODIFIED:20251027T234534Z
UID:21641-1825578000-1825592400@www.chambersmc.org
SUMMARY:San Carlos Farmer's Markets
DESCRIPTION:Every Sunday\, 9:00 am – 1:00 pm\, Downtown Laurel Street – Between Cherry and San Carlos Avenue
URL:https://www.chambersmc.org/event/san-carlos-farmers-markets-6/2027-11-07/
LOCATION:Downtown Laurel Street – Between Cherry and San Carlos Avenue\, Laurel Street\, San Carlos\, CA\, 94070\, United States
CATEGORIES:San Carlos Events
END:VEVENT
BEGIN:VEVENT
DTSTART;TZID=America/Los_Angeles:20271114T090000
DTEND;TZID=America/Los_Angeles:20271114T130000
DTSTAMP:20260422T150444
CREATED:20251027T234534Z
LAST-MODIFIED:20251027T234534Z
UID:21652-1826182800-1826197200@www.chambersmc.org
SUMMARY:San Carlos Farmer's Markets
DESCRIPTION:Every Sunday\, 9:00 am – 1:00 pm\, Downtown Laurel Street – Between Cherry and San Carlos Avenue
URL:https://www.chambersmc.org/event/san-carlos-farmers-markets-6/2027-11-14/
LOCATION:Downtown Laurel Street – Between Cherry and San Carlos Avenue\, Laurel Street\, San Carlos\, CA\, 94070\, United States
CATEGORIES:San Carlos Events
END:VEVENT
BEGIN:VEVENT
DTSTART;TZID=America/Los_Angeles:20271121T090000
DTEND;TZID=America/Los_Angeles:20271121T130000
DTSTAMP:20260422T150444
CREATED:20251027T234534Z
LAST-MODIFIED:20251027T234534Z
UID:21721-1826787600-1826802000@www.chambersmc.org
SUMMARY:San Carlos Farmer's Markets
DESCRIPTION:Every Sunday\, 9:00 am – 1:00 pm\, Downtown Laurel Street – Between Cherry and San Carlos Avenue
URL:https://www.chambersmc.org/event/san-carlos-farmers-markets-6/2027-11-21/
LOCATION:Downtown Laurel Street – Between Cherry and San Carlos Avenue\, Laurel Street\, San Carlos\, CA\, 94070\, United States
CATEGORIES:San Carlos Events
END:VEVENT
BEGIN:VEVENT
DTSTART;TZID=America/Los_Angeles:20271128T090000
DTEND;TZID=America/Los_Angeles:20271128T130000
DTSTAMP:20260422T150444
CREATED:20251027T234534Z
LAST-MODIFIED:20251027T234534Z
UID:21743-1827392400-1827406800@www.chambersmc.org
SUMMARY:San Carlos Farmer's Markets
DESCRIPTION:Every Sunday\, 9:00 am – 1:00 pm\, Downtown Laurel Street – Between Cherry and San Carlos Avenue
URL:https://www.chambersmc.org/event/san-carlos-farmers-markets-6/2027-11-28/
LOCATION:Downtown Laurel Street – Between Cherry and San Carlos Avenue\, Laurel Street\, San Carlos\, CA\, 94070\, United States
CATEGORIES:San Carlos Events
END:VEVENT
BEGIN:VEVENT
DTSTART;TZID=America/Los_Angeles:20271205T090000
DTEND;TZID=America/Los_Angeles:20271205T130000
DTSTAMP:20260422T150444
CREATED:20251027T234534Z
LAST-MODIFIED:20251027T234534Z
UID:21763-1827997200-1828011600@www.chambersmc.org
SUMMARY:San Carlos Farmer's Markets
DESCRIPTION:Every Sunday\, 9:00 am – 1:00 pm\, Downtown Laurel Street – Between Cherry and San Carlos Avenue
URL:https://www.chambersmc.org/event/san-carlos-farmers-markets-6/2027-12-05/
LOCATION:Downtown Laurel Street – Between Cherry and San Carlos Avenue\, Laurel Street\, San Carlos\, CA\, 94070\, United States
CATEGORIES:San Carlos Events
END:VEVENT
BEGIN:VEVENT
DTSTART;TZID=America/Los_Angeles:20271212T090000
DTEND;TZID=America/Los_Angeles:20271212T130000
DTSTAMP:20260422T150444
CREATED:20251027T234534Z
LAST-MODIFIED:20251027T234534Z
UID:21853-1828602000-1828616400@www.chambersmc.org
SUMMARY:San Carlos Farmer's Markets
DESCRIPTION:Every Sunday\, 9:00 am – 1:00 pm\, Downtown Laurel Street – Between Cherry and San Carlos Avenue
URL:https://www.chambersmc.org/event/san-carlos-farmers-markets-6/2027-12-12/
LOCATION:Downtown Laurel Street – Between Cherry and San Carlos Avenue\, Laurel Street\, San Carlos\, CA\, 94070\, United States
CATEGORIES:San Carlos Events
END:VEVENT
BEGIN:VEVENT
DTSTART;TZID=America/Los_Angeles:20271219T090000
DTEND;TZID=America/Los_Angeles:20271219T130000
DTSTAMP:20260422T150444
CREATED:20251027T234534Z
LAST-MODIFIED:20251027T234534Z
UID:21960-1829206800-1829221200@www.chambersmc.org
SUMMARY:San Carlos Farmer's Markets
DESCRIPTION:Every Sunday\, 9:00 am – 1:00 pm\, Downtown Laurel Street – Between Cherry and San Carlos Avenue
URL:https://www.chambersmc.org/event/san-carlos-farmers-markets-6/2027-12-19/
LOCATION:Downtown Laurel Street – Between Cherry and San Carlos Avenue\, Laurel Street\, San Carlos\, CA\, 94070\, United States
CATEGORIES:San Carlos Events
END:VEVENT
BEGIN:VEVENT
DTSTART;TZID=America/Los_Angeles:20271226T090000
DTEND;TZID=America/Los_Angeles:20271226T130000
DTSTAMP:20260422T150444
CREATED:20251027T234534Z
LAST-MODIFIED:20251027T234534Z
UID:21969-1829811600-1829826000@www.chambersmc.org
SUMMARY:San Carlos Farmer's Markets
DESCRIPTION:Every Sunday\, 9:00 am – 1:00 pm\, Downtown Laurel Street – Between Cherry and San Carlos Avenue
URL:https://www.chambersmc.org/event/san-carlos-farmers-markets-6/2027-12-26/
LOCATION:Downtown Laurel Street – Between Cherry and San Carlos Avenue\, Laurel Street\, San Carlos\, CA\, 94070\, United States
CATEGORIES:San Carlos Events
END:VEVENT
BEGIN:VEVENT
DTSTART;TZID=America/Los_Angeles:20280102T090000
DTEND;TZID=America/Los_Angeles:20280102T130000
DTSTAMP:20260422T150444
CREATED:20251027T234534Z
LAST-MODIFIED:20251027T234534Z
UID:21972-1830416400-1830430800@www.chambersmc.org
SUMMARY:San Carlos Farmer's Markets
DESCRIPTION:Every Sunday\, 9:00 am – 1:00 pm\, Downtown Laurel Street – Between Cherry and San Carlos Avenue
URL:https://www.chambersmc.org/event/san-carlos-farmers-markets-6/2028-01-02/
LOCATION:Downtown Laurel Street – Between Cherry and San Carlos Avenue\, Laurel Street\, San Carlos\, CA\, 94070\, United States
CATEGORIES:San Carlos Events
END:VEVENT
BEGIN:VEVENT
DTSTART;TZID=America/Los_Angeles:20280109T090000
DTEND;TZID=America/Los_Angeles:20280109T130000
DTSTAMP:20260422T150444
CREATED:20251027T234534Z
LAST-MODIFIED:20251027T234534Z
UID:21985-1831021200-1831035600@www.chambersmc.org
SUMMARY:San Carlos Farmer's Markets
DESCRIPTION:Every Sunday\, 9:00 am – 1:00 pm\, Downtown Laurel Street – Between Cherry and San Carlos Avenue
URL:https://www.chambersmc.org/event/san-carlos-farmers-markets-6/2028-01-09/
LOCATION:Downtown Laurel Street – Between Cherry and San Carlos Avenue\, Laurel Street\, San Carlos\, CA\, 94070\, United States
CATEGORIES:San Carlos Events
END:VEVENT
END:VCALENDAR