BEGIN:VCALENDAR
VERSION:2.0
PRODID:-//Chamber San Mateo County - ECPv6.15.20//NONSGML v1.0//EN
CALSCALE:GREGORIAN
METHOD:PUBLISH
X-WR-CALNAME:Chamber San Mateo County
X-ORIGINAL-URL:https://www.chambersmc.org
X-WR-CALDESC:Events for Chamber San Mateo County
REFRESH-INTERVAL;VALUE=DURATION:PT1H
X-Robots-Tag:noindex
X-PUBLISHED-TTL:PT1H
BEGIN:VTIMEZONE
TZID:America/Los_Angeles
BEGIN:DAYLIGHT
TZOFFSETFROM:-0800
TZOFFSETTO:-0700
TZNAME:PDT
DTSTART:20240310T100000
END:DAYLIGHT
BEGIN:STANDARD
TZOFFSETFROM:-0700
TZOFFSETTO:-0800
TZNAME:PST
DTSTART:20241103T090000
END:STANDARD
BEGIN:DAYLIGHT
TZOFFSETFROM:-0800
TZOFFSETTO:-0700
TZNAME:PDT
DTSTART:20250309T100000
END:DAYLIGHT
BEGIN:STANDARD
TZOFFSETFROM:-0700
TZOFFSETTO:-0800
TZNAME:PST
DTSTART:20251102T090000
END:STANDARD
BEGIN:DAYLIGHT
TZOFFSETFROM:-0800
TZOFFSETTO:-0700
TZNAME:PDT
DTSTART:20260308T100000
END:DAYLIGHT
BEGIN:STANDARD
TZOFFSETFROM:-0700
TZOFFSETTO:-0800
TZNAME:PST
DTSTART:20261101T090000
END:STANDARD
END:VTIMEZONE
BEGIN:VEVENT
DTSTART;TZID=America/Los_Angeles:20251216T180000
DTEND;TZID=America/Los_Angeles:20251216T190000
DTSTAMP:20260422T145529
CREATED:20251028T002137Z
LAST-MODIFIED:20251028T002137Z
UID:21119-1765908000-1765911600@www.chambersmc.org
SUMMARY:Menlo Park City Council Meeting
DESCRIPTION:
URL:https://www.chambersmc.org/event/menlo-park-city-council-meeting-4/
LOCATION:City Hall Chambers – ZOOM\, ZOOM
CATEGORIES:Menlo Park City Council Meeting
END:VEVENT
BEGIN:VEVENT
DTSTART;TZID=America/Los_Angeles:20251209T180000
DTEND;TZID=America/Los_Angeles:20251209T190000
DTSTAMP:20260422T145529
CREATED:20251028T002051Z
LAST-MODIFIED:20251028T002051Z
UID:21117-1765303200-1765306800@www.chambersmc.org
SUMMARY:Menlo Park City Council Meeting
DESCRIPTION:
URL:https://www.chambersmc.org/event/menlo-park-city-council-meeting-3/
LOCATION:City Hall Chambers – ZOOM\, ZOOM
CATEGORIES:Menlo Park City Council Meeting
END:VEVENT
BEGIN:VEVENT
DTSTART;TZID=America/Los_Angeles:20251118T180000
DTEND;TZID=America/Los_Angeles:20251118T190000
DTSTAMP:20260422T145529
CREATED:20251028T002019Z
LAST-MODIFIED:20251028T002019Z
UID:21115-1763488800-1763492400@www.chambersmc.org
SUMMARY:Menlo Park City Council Meeting
DESCRIPTION:
URL:https://www.chambersmc.org/event/menlo-park-city-council-meeting-2/
LOCATION:City Hall Chambers – ZOOM\, ZOOM
CATEGORIES:Menlo Park City Council Meeting
END:VEVENT
BEGIN:VEVENT
DTSTART;TZID=America/Los_Angeles:20251104T180000
DTEND;TZID=America/Los_Angeles:20251104T190000
DTSTAMP:20260422T145529
CREATED:20251028T001538Z
LAST-MODIFIED:20251028T001807Z
UID:21112-1762279200-1762282800@www.chambersmc.org
SUMMARY:Menlo Park City Council Meeting
DESCRIPTION:
URL:https://www.chambersmc.org/event/menlo-park-city-council-meeting/
LOCATION:City Hall Chambers – ZOOM\, ZOOM
CATEGORIES:Menlo Park City Council Meeting
END:VEVENT
END:VCALENDAR