BEGIN:VCALENDAR
VERSION:2.0
PRODID:-//Chamber San Mateo County - ECPv6.15.20//NONSGML v1.0//EN
CALSCALE:GREGORIAN
METHOD:PUBLISH
X-ORIGINAL-URL:https://www.chambersmc.org
X-WR-CALDESC:Events for Chamber San Mateo County
REFRESH-INTERVAL;VALUE=DURATION:PT1H
X-Robots-Tag:noindex
X-PUBLISHED-TTL:PT1H
BEGIN:VTIMEZONE
TZID:America/Los_Angeles
BEGIN:DAYLIGHT
TZOFFSETFROM:-0800
TZOFFSETTO:-0700
TZNAME:PDT
DTSTART:20240310T100000
END:DAYLIGHT
BEGIN:STANDARD
TZOFFSETFROM:-0700
TZOFFSETTO:-0800
TZNAME:PST
DTSTART:20241103T090000
END:STANDARD
BEGIN:DAYLIGHT
TZOFFSETFROM:-0800
TZOFFSETTO:-0700
TZNAME:PDT
DTSTART:20250309T100000
END:DAYLIGHT
BEGIN:STANDARD
TZOFFSETFROM:-0700
TZOFFSETTO:-0800
TZNAME:PST
DTSTART:20251102T090000
END:STANDARD
BEGIN:DAYLIGHT
TZOFFSETFROM:-0800
TZOFFSETTO:-0700
TZNAME:PDT
DTSTART:20260308T100000
END:DAYLIGHT
BEGIN:STANDARD
TZOFFSETFROM:-0700
TZOFFSETTO:-0800
TZNAME:PST
DTSTART:20261101T090000
END:STANDARD
END:VTIMEZONE
BEGIN:VEVENT
DTSTART;TZID=America/Los_Angeles:20251222T180000
DTEND;TZID=America/Los_Angeles:20251222T190000
DTSTAMP:20260422T145709
CREATED:20251028T000526Z
LAST-MODIFIED:20251028T000526Z
UID:21107-1766426400-1766430000@www.chambersmc.org
SUMMARY:Redwood City - City Council Meeting
DESCRIPTION:
URL:https://www.chambersmc.org/event/redwood-city-city-council-meeting-3/
LOCATION:City Hall Chambers – Middlefield Road\, 1017 Middlefield Road\, Redwood City\, CA\, 94063\, United States
CATEGORIES:Redwood City - City Council Meeting
END:VEVENT
BEGIN:VEVENT
DTSTART;TZID=America/Los_Angeles:20251208T180000
DTEND;TZID=America/Los_Angeles:20251208T190000
DTSTAMP:20260422T145709
CREATED:20251028T000309Z
LAST-MODIFIED:20251028T000309Z
UID:21105-1765216800-1765220400@www.chambersmc.org
SUMMARY:Redwood City - City Council Meeting
DESCRIPTION:
URL:https://www.chambersmc.org/event/redwood-city-city-council-meeting-2/
LOCATION:City Hall Chambers – Middlefield Road\, 1017 Middlefield Road\, Redwood City\, CA\, 94063\, United States
CATEGORIES:Redwood City - City Council Meeting
END:VEVENT
BEGIN:VEVENT
DTSTART;TZID=America/Los_Angeles:20251124T180000
DTEND;TZID=America/Los_Angeles:20251124T190000
DTSTAMP:20260422T145709
CREATED:20251028T000233Z
LAST-MODIFIED:20251028T000233Z
UID:21103-1764007200-1764010800@www.chambersmc.org
SUMMARY:Redwood City - City Council Meeting
DESCRIPTION:
URL:https://www.chambersmc.org/event/redwood-city-city-council-meeting/
LOCATION:City Hall Chambers – Middlefield Road\, 1017 Middlefield Road\, Redwood City\, CA\, 94063\, United States
CATEGORIES:Redwood City - City Council Meeting
END:VEVENT
BEGIN:VEVENT
DTSTART;TZID=America/Los_Angeles:20251110T180000
DTEND;TZID=America/Los_Angeles:20251110T190000
DTSTAMP:20260422T145709
CREATED:20251027T234958Z
LAST-MODIFIED:20251028T000023Z
UID:21097-1762797600-1762801200@www.chambersmc.org
SUMMARY:Redwood City - City Council Meeting
DESCRIPTION:
URL:https://www.chambersmc.org/event/redwood-city-city-council-meeting-1/
LOCATION:City Hall Chambers – Middlefield Road\, 1017 Middlefield Road\, Redwood City\, CA\, 94063\, United States
CATEGORIES:Redwood City - City Council Meeting
END:VEVENT
END:VCALENDAR