BEGIN:VCALENDAR
VERSION:2.0
PRODID:-//Chamber San Mateo County - ECPv6.15.20//NONSGML v1.0//EN
CALSCALE:GREGORIAN
METHOD:PUBLISH
X-WR-CALNAME:Chamber San Mateo County
X-ORIGINAL-URL:https://www.chambersmc.org
X-WR-CALDESC:Events for Chamber San Mateo County
REFRESH-INTERVAL;VALUE=DURATION:PT1H
X-Robots-Tag:noindex
X-PUBLISHED-TTL:PT1H
BEGIN:VTIMEZONE
TZID:America/Los_Angeles
BEGIN:DAYLIGHT
TZOFFSETFROM:-0800
TZOFFSETTO:-0700
TZNAME:PDT
DTSTART:20230312T100000
END:DAYLIGHT
BEGIN:STANDARD
TZOFFSETFROM:-0700
TZOFFSETTO:-0800
TZNAME:PST
DTSTART:20231105T090000
END:STANDARD
BEGIN:DAYLIGHT
TZOFFSETFROM:-0800
TZOFFSETTO:-0700
TZNAME:PDT
DTSTART:20240310T100000
END:DAYLIGHT
BEGIN:STANDARD
TZOFFSETFROM:-0700
TZOFFSETTO:-0800
TZNAME:PST
DTSTART:20241103T090000
END:STANDARD
BEGIN:DAYLIGHT
TZOFFSETFROM:-0800
TZOFFSETTO:-0700
TZNAME:PDT
DTSTART:20250309T100000
END:DAYLIGHT
BEGIN:STANDARD
TZOFFSETFROM:-0700
TZOFFSETTO:-0800
TZNAME:PST
DTSTART:20251102T090000
END:STANDARD
END:VTIMEZONE
BEGIN:VEVENT
DTSTART;TZID=America/Los_Angeles:20240807T120000
DTEND;TZID=America/Los_Angeles:20240807T130000
DTSTAMP:20260423T095034
CREATED:20231117T004422Z
LAST-MODIFIED:20231117T004422Z
UID:17093-1723032000-1723035600@www.chambersmc.org
SUMMARY:Education Committee
DESCRIPTION:
URL:https://www.chambersmc.org/event/education-committee-4/
CATEGORIES:Education Committee
END:VEVENT
BEGIN:VEVENT
DTSTART;TZID=America/Los_Angeles:20240808T120000
DTEND;TZID=America/Los_Angeles:20240808T130000
DTSTAMP:20260423T095034
CREATED:20231117T004739Z
LAST-MODIFIED:20231117T004739Z
UID:17105-1723118400-1723122000@www.chambersmc.org
SUMMARY:Menlo Park Business Committee
DESCRIPTION:
URL:https://www.chambersmc.org/event/menlo-park-business-committee-10/
END:VEVENT
BEGIN:VEVENT
DTSTART;TZID=America/Los_Angeles:20240821T120000
DTEND;TZID=America/Los_Angeles:20240821T131500
DTSTAMP:20260423T095034
CREATED:20231117T005211Z
LAST-MODIFIED:20231117T005211Z
UID:17117-1724241600-1724246100@www.chambersmc.org
SUMMARY:Governmental Relations Committee
DESCRIPTION:
URL:https://www.chambersmc.org/event/governmental-relations-committee-4/
CATEGORIES:Governmental Relations Committee
END:VEVENT
END:VCALENDAR