BEGIN:VCALENDAR
VERSION:2.0
PRODID:-//Chamber San Mateo County - ECPv6.15.20//NONSGML v1.0//EN
CALSCALE:GREGORIAN
METHOD:PUBLISH
X-ORIGINAL-URL:https://www.chambersmc.org
X-WR-CALDESC:Events for Chamber San Mateo County
REFRESH-INTERVAL;VALUE=DURATION:PT1H
X-Robots-Tag:noindex
X-PUBLISHED-TTL:PT1H
BEGIN:VTIMEZONE
TZID:America/Los_Angeles
BEGIN:DAYLIGHT
TZOFFSETFROM:-0800
TZOFFSETTO:-0700
TZNAME:PDT
DTSTART:20230312T100000
END:DAYLIGHT
BEGIN:STANDARD
TZOFFSETFROM:-0700
TZOFFSETTO:-0800
TZNAME:PST
DTSTART:20231105T090000
END:STANDARD
BEGIN:DAYLIGHT
TZOFFSETFROM:-0800
TZOFFSETTO:-0700
TZNAME:PDT
DTSTART:20240310T100000
END:DAYLIGHT
BEGIN:STANDARD
TZOFFSETFROM:-0700
TZOFFSETTO:-0800
TZNAME:PST
DTSTART:20241103T090000
END:STANDARD
BEGIN:DAYLIGHT
TZOFFSETFROM:-0800
TZOFFSETTO:-0700
TZNAME:PDT
DTSTART:20250309T100000
END:DAYLIGHT
BEGIN:STANDARD
TZOFFSETFROM:-0700
TZOFFSETTO:-0800
TZNAME:PST
DTSTART:20251102T090000
END:STANDARD
END:VTIMEZONE
BEGIN:VEVENT
DTSTART;TZID=America/Los_Angeles:20240501T090000
DTEND;TZID=America/Los_Angeles:20240501T100000
DTSTAMP:20260423T140759
CREATED:20240404T235600Z
LAST-MODIFIED:20240404T235600Z
UID:17766-1714554000-1714557600@www.chambersmc.org
SUMMARY:Good Morning San Mateo County - State of the City (Redwood City)
DESCRIPTION:Register in advance for this webinar:\nhttps://us02web.zoom.us/webinar/register/WN_kO0_yoYxQ2qi2ISsPJipuA \nAfter registering\, you will receive a confirmation email containing information about joining the webinar. \n 
URL:https://www.chambersmc.org/event/good-morning-san-mateo-county-state-of-the-city-rwc/
END:VEVENT
BEGIN:VEVENT
DTSTART;TZID=America/Los_Angeles:20240502T120000
DTEND;TZID=America/Los_Angeles:20240502T130000
DTSTAMP:20260423T140759
CREATED:20231117T003547Z
LAST-MODIFIED:20231117T003547Z
UID:17069-1714651200-1714654800@www.chambersmc.org
SUMMARY:Belmont Business Committee
DESCRIPTION:
URL:https://www.chambersmc.org/event/belmont-business-committee-4/
END:VEVENT
BEGIN:VEVENT
DTSTART;TZID=America/Los_Angeles:20240507T120000
DTEND;TZID=America/Los_Angeles:20240507T130000
DTSTAMP:20260423T140759
CREATED:20231117T002125Z
LAST-MODIFIED:20231117T002125Z
UID:17057-1715083200-1715086800@www.chambersmc.org
SUMMARY:Economic Development Committee
DESCRIPTION:
URL:https://www.chambersmc.org/event/economic-development-committee-3/
CATEGORIES:Economic Development Committee
END:VEVENT
BEGIN:VEVENT
DTSTART;TZID=America/Los_Angeles:20240509T120000
DTEND;TZID=America/Los_Angeles:20240509T131500
DTSTAMP:20260423T140759
CREATED:20231117T004114Z
LAST-MODIFIED:20231117T004114Z
UID:17079-1715256000-1715260500@www.chambersmc.org
SUMMARY:Transportation & Housing Committee
DESCRIPTION:
URL:https://www.chambersmc.org/event/transportation-housing-committee-3/
CATEGORIES:Transportation & Housing Committee
END:VEVENT
END:VCALENDAR