BEGIN:VCALENDAR
VERSION:2.0
PRODID:-//Chamber San Mateo County - ECPv6.15.20//NONSGML v1.0//EN
CALSCALE:GREGORIAN
METHOD:PUBLISH
X-WR-CALNAME:Chamber San Mateo County
X-ORIGINAL-URL:https://www.chambersmc.org
X-WR-CALDESC:Events for Chamber San Mateo County
REFRESH-INTERVAL;VALUE=DURATION:PT1H
X-Robots-Tag:noindex
X-PUBLISHED-TTL:PT1H
BEGIN:VTIMEZONE
TZID:America/Los_Angeles
BEGIN:DAYLIGHT
TZOFFSETFROM:-0800
TZOFFSETTO:-0700
TZNAME:PDT
DTSTART:20230312T100000
END:DAYLIGHT
BEGIN:STANDARD
TZOFFSETFROM:-0700
TZOFFSETTO:-0800
TZNAME:PST
DTSTART:20231105T090000
END:STANDARD
BEGIN:DAYLIGHT
TZOFFSETFROM:-0800
TZOFFSETTO:-0700
TZNAME:PDT
DTSTART:20240310T100000
END:DAYLIGHT
BEGIN:STANDARD
TZOFFSETFROM:-0700
TZOFFSETTO:-0800
TZNAME:PST
DTSTART:20241103T090000
END:STANDARD
BEGIN:DAYLIGHT
TZOFFSETFROM:-0800
TZOFFSETTO:-0700
TZNAME:PDT
DTSTART:20250309T100000
END:DAYLIGHT
BEGIN:STANDARD
TZOFFSETFROM:-0700
TZOFFSETTO:-0800
TZNAME:PST
DTSTART:20251102T090000
END:STANDARD
END:VTIMEZONE
BEGIN:VEVENT
DTSTART;TZID=America/Los_Angeles:20240207T120000
DTEND;TZID=America/Los_Angeles:20240207T130000
DTSTAMP:20260423T182351
CREATED:20231117T004330Z
LAST-MODIFIED:20231117T004330Z
UID:17087-1707307200-1707310800@www.chambersmc.org
SUMMARY:Education Committee
DESCRIPTION:
URL:https://www.chambersmc.org/event/education-committee/
CATEGORIES:Education Committee
END:VEVENT
BEGIN:VEVENT
DTSTART;TZID=America/Los_Angeles:20240207T170000
DTEND;TZID=America/Los_Angeles:20240207T190000
DTSTAMP:20260423T182351
CREATED:20240109T004847Z
LAST-MODIFIED:20240109T005007Z
UID:17368-1707325200-1707332400@www.chambersmc.org
SUMMARY:Off the Clock at Hotel Nia
DESCRIPTION:
URL:https://www.chambersmc.org/event/off-the-clock-at-hotel-nia/
LOCATION:Hotel Nia\, 200 Independence Dr\, Menlo Park\, CA\, 94025\, United States
CATEGORIES:Off the Clock
END:VEVENT
BEGIN:VEVENT
DTSTART;TZID=America/Los_Angeles:20240208T120000
DTEND;TZID=America/Los_Angeles:20240208T130000
DTSTAMP:20260423T182351
CREATED:20231117T004642Z
LAST-MODIFIED:20231117T004642Z
UID:17099-1707393600-1707397200@www.chambersmc.org
SUMMARY:Menlo Park Business Committee
DESCRIPTION:
URL:https://www.chambersmc.org/event/menlo-park-business-committee-5/
END:VEVENT
BEGIN:VEVENT
DTSTART;TZID=America/Los_Angeles:20240221T120000
DTEND;TZID=America/Los_Angeles:20240221T131500
DTSTAMP:20260423T182351
CREATED:20231117T005020Z
LAST-MODIFIED:20231117T005020Z
UID:17111-1708516800-1708521300@www.chambersmc.org
SUMMARY:Governmental Relations Committee
DESCRIPTION:
URL:https://www.chambersmc.org/event/governmental-relations-committee/
CATEGORIES:Governmental Relations Committee
END:VEVENT
BEGIN:VEVENT
DTSTART;TZID=America/Los_Angeles:20240229T113000
DTEND;TZID=America/Los_Angeles:20240229T133000
DTSTAMP:20260423T182351
CREATED:20231219T005927Z
LAST-MODIFIED:20251115T143752Z
UID:17265-1709206200-1709213400@www.chambersmc.org
SUMMARY:126th Annual Awards & Recognition Luncheon
DESCRIPTION:SOLD OUT\n			\n			\n				\n				\n				\n				\n			\n				\n				\n				\n				\n				\n				\n				\n				\n				\n				\n				\n			\n			\n				\n				\n				\n				\n				\n				\n				\n				\n				\n				Join us as we celebrate and honor our 2023 Award Winners!\nAwards to be distributed:\n\nCornerstone – Congresswoman Anna G. Eshoo\nWoman of the Year – Julie Lind\nTom Mohr “Champion of Education” – Dr. Jamillah Moore\, Arbor Bay School\, Footsteps Child Care\nChair’s Person of the Year – it’s a surprise! To be revealed at the event.\n\n 
URL:https://www.chambersmc.org/event/126-annual-awards-recognition-luncheon/
LOCATION:San Mateo County Event Center\, 1346 Saratoga Dr\, San Mateo\, CA\, 94403\, United States
CATEGORIES:Community / Chamber Member Events
END:VEVENT
END:VCALENDAR