BEGIN:VCALENDAR
VERSION:2.0
PRODID:-//Chamber San Mateo County - ECPv6.15.20//NONSGML v1.0//EN
CALSCALE:GREGORIAN
METHOD:PUBLISH
X-WR-CALNAME:Chamber San Mateo County
X-ORIGINAL-URL:https://www.chambersmc.org
X-WR-CALDESC:Events for Chamber San Mateo County
REFRESH-INTERVAL;VALUE=DURATION:PT1H
X-Robots-Tag:noindex
X-PUBLISHED-TTL:PT1H
BEGIN:VTIMEZONE
TZID:America/Los_Angeles
BEGIN:DAYLIGHT
TZOFFSETFROM:-0800
TZOFFSETTO:-0700
TZNAME:PDT
DTSTART:20240310T100000
END:DAYLIGHT
BEGIN:STANDARD
TZOFFSETFROM:-0700
TZOFFSETTO:-0800
TZNAME:PST
DTSTART:20241103T090000
END:STANDARD
BEGIN:DAYLIGHT
TZOFFSETFROM:-0800
TZOFFSETTO:-0700
TZNAME:PDT
DTSTART:20250309T100000
END:DAYLIGHT
BEGIN:STANDARD
TZOFFSETFROM:-0700
TZOFFSETTO:-0800
TZNAME:PST
DTSTART:20251102T090000
END:STANDARD
BEGIN:DAYLIGHT
TZOFFSETFROM:-0800
TZOFFSETTO:-0700
TZNAME:PDT
DTSTART:20260308T100000
END:DAYLIGHT
BEGIN:STANDARD
TZOFFSETFROM:-0700
TZOFFSETTO:-0800
TZNAME:PST
DTSTART:20261101T090000
END:STANDARD
END:VTIMEZONE
BEGIN:VEVENT
DTSTART;TZID=America/Los_Angeles:20251102T090000
DTEND;TZID=America/Los_Angeles:20251102T130000
DTSTAMP:20260422T072715
CREATED:20251027T233041Z
LAST-MODIFIED:20251027T233743Z
UID:21071-1762074000-1762088400@www.chambersmc.org
SUMMARY:San Carlos Farmer's Markets
DESCRIPTION:Every Sunday\, 9:00 am – 1:00 pm\, Downtown Laurel Street – Between Cherry and San Carlos Avenue
URL:https://www.chambersmc.org/event/san-carlos-farmers-markets-1/
LOCATION:Downtown Laurel Street – Between Cherry and San Carlos Avenue\, Laurel Street\, San Carlos\, CA\, 94070\, United States
CATEGORIES:San Carlos Events
END:VEVENT
BEGIN:VEVENT
DTSTART;TZID=America/Los_Angeles:20251109T090000
DTEND;TZID=America/Los_Angeles:20251109T130000
DTSTAMP:20260422T072715
CREATED:20251027T234003Z
LAST-MODIFIED:20251027T234003Z
UID:21074-1762678800-1762693200@www.chambersmc.org
SUMMARY:San Carlos Farmer's Markets
DESCRIPTION:Every Sunday\, 9:00 am – 1:00 pm\, Downtown Laurel Street – Between Cherry and San Carlos Avenue
URL:https://www.chambersmc.org/event/san-carlos-farmers-markets-2/
LOCATION:Downtown Laurel Street – Between Cherry and San Carlos Avenue\, Laurel Street\, San Carlos\, CA\, 94070\, United States
CATEGORIES:San Carlos Events
END:VEVENT
BEGIN:VEVENT
DTSTART;TZID=America/Los_Angeles:20251116T090000
DTEND;TZID=America/Los_Angeles:20251116T130000
DTSTAMP:20260422T072715
CREATED:20251027T234034Z
LAST-MODIFIED:20251027T234111Z
UID:21079-1763283600-1763298000@www.chambersmc.org
SUMMARY:San Carlos Farmer's Markets
DESCRIPTION:Every Sunday\, 9:00 am – 1:00 pm\, Downtown Laurel Street – Between Cherry and San Carlos Avenue
URL:https://www.chambersmc.org/event/san-carlos-farmers-markets-3/
LOCATION:Downtown Laurel Street – Between Cherry and San Carlos Avenue\, Laurel Street\, San Carlos\, CA\, 94070\, United States
CATEGORIES:San Carlos Events
END:VEVENT
BEGIN:VEVENT
DTSTART;TZID=America/Los_Angeles:20251123T090000
DTEND;TZID=America/Los_Angeles:20251123T130000
DTSTAMP:20260422T072715
CREATED:20251027T234207Z
LAST-MODIFIED:20251027T234207Z
UID:21081-1763888400-1763902800@www.chambersmc.org
SUMMARY:San Carlos Farmer's Markets
DESCRIPTION:Every Sunday\, 9:00 am – 1:00 pm\, Downtown Laurel Street – Between Cherry and San Carlos Avenue
URL:https://www.chambersmc.org/event/san-carlos-farmers-markets/
LOCATION:Downtown Laurel Street – Between Cherry and San Carlos Avenue\, Laurel Street\, San Carlos\, CA\, 94070\, United States
CATEGORIES:San Carlos Events
END:VEVENT
BEGIN:VEVENT
DTSTART;TZID=America/Los_Angeles:20251130T090000
DTEND;TZID=America/Los_Angeles:20251130T130000
DTSTAMP:20260422T072715
CREATED:20251027T234331Z
LAST-MODIFIED:20251027T234331Z
UID:21083-1764493200-1764507600@www.chambersmc.org
SUMMARY:San Carlos Farmer's Markets
DESCRIPTION:Every Sunday\, 9:00 am – 1:00 pm\, Downtown Laurel Street – Between Cherry and San Carlos Avenue
URL:https://www.chambersmc.org/event/san-carlos-farmers-markets-4/
LOCATION:Downtown Laurel Street – Between Cherry and San Carlos Avenue\, Laurel Street\, San Carlos\, CA\, 94070\, United States
CATEGORIES:San Carlos Events
END:VEVENT
END:VCALENDAR